BEGIN:VCALENDAR
VERSION:2.0
PRODID:-//Emily Haeusler - Coaching &amp; Supervision - ECPv6.15.20//NONSGML v1.0//EN
CALSCALE:GREGORIAN
METHOD:PUBLISH
X-WR-CALNAME:Emily Haeusler - Coaching &amp; Supervision
X-ORIGINAL-URL:https://emilyhaeusler.de
X-WR-CALDESC:Veranstaltungen für Emily Haeusler - Coaching &amp; Supervision
REFRESH-INTERVAL;VALUE=DURATION:PT1H
X-Robots-Tag:noindex
X-PUBLISHED-TTL:PT1H
BEGIN:VTIMEZONE
TZID:Europe/Berlin
BEGIN:DAYLIGHT
TZOFFSETFROM:+0100
TZOFFSETTO:+0200
TZNAME:CEST
DTSTART:20250330T010000
END:DAYLIGHT
BEGIN:STANDARD
TZOFFSETFROM:+0200
TZOFFSETTO:+0100
TZNAME:CET
DTSTART:20251026T010000
END:STANDARD
BEGIN:DAYLIGHT
TZOFFSETFROM:+0100
TZOFFSETTO:+0200
TZNAME:CEST
DTSTART:20260329T010000
END:DAYLIGHT
BEGIN:STANDARD
TZOFFSETFROM:+0200
TZOFFSETTO:+0100
TZNAME:CET
DTSTART:20261025T010000
END:STANDARD
BEGIN:DAYLIGHT
TZOFFSETFROM:+0100
TZOFFSETTO:+0200
TZNAME:CEST
DTSTART:20270328T010000
END:DAYLIGHT
BEGIN:STANDARD
TZOFFSETFROM:+0200
TZOFFSETTO:+0100
TZNAME:CET
DTSTART:20271031T010000
END:STANDARD
END:VTIMEZONE
BEGIN:VEVENT
DTSTART;TZID=Europe/Berlin:20260424T090000
DTEND;TZID=Europe/Berlin:20260424T120000
DTSTAMP:20260424T122745
CREATED:20260130T202358Z
LAST-MODIFIED:20260416T112434Z
UID:6509-1777021200-1777032000@emilyhaeusler.de
SUMMARY:Workshop: Positive Psychologie für deine berufliche Neuorientierung (online)
DESCRIPTION:Die größte Hürde für die berufliche Neuorientierung ist oft der unsichtbare Rucksack: der Verlust des mentalen Wohlbefindens. Wer bin ich eigentlich\, was will ich überhaupt und war meine Entscheidung die richtige? \nIm Workshop schauen wir aus positiv-psychologischer Perspektive ganzheitlich auf dein Leben und deinen Beruf und sprechen über Themen wie mentale Gesundheit\, Resilienz und positives Selbstmanagement. Du gewinnst mehr Bewusstsein für deine innere Haltung und stärkst deine Ressourcen\, um langfristig handlungsfähig zu sein und zu bleiben. \nDer Kurs eignet sich für alle Menschen und richtet sich insbesondere an Menschen in beruflichen Umbruch- und Übergangsphasen\, sowie Betroffene von Arbeitslosigkeit. \nEgal\, wo du in deinem Orientierungsprozess stehst: Hier sähst du Samen für einen wertschätzenden\, wohlwollenden und zuversichtlichen Umgang mit dir selbst und deiner Situation.
URL:https://emilyhaeusler.de/event/workshop-positive-neuorientierung2/
LOCATION:online
ATTACH;FMTTYPE=image/png:https://emilyhaeusler.de/wp-content/uploads/2026/01/Denki-169-2.png
ORGANIZER;CN="Emily Haeusler Coaching":MAILTO:coaching@emilyhaeusler.de
END:VEVENT
END:VCALENDAR