BEGIN:VCALENDAR
VERSION:2.0
PRODID:-//Emily Haeusler - Coaching &amp; Supervision - ECPv6.15.20//NONSGML v1.0//EN
CALSCALE:GREGORIAN
METHOD:PUBLISH
X-ORIGINAL-URL:https://emilyhaeusler.de
X-WR-CALDESC:Veranstaltungen für Emily Haeusler - Coaching &amp; Supervision
REFRESH-INTERVAL;VALUE=DURATION:PT1H
X-Robots-Tag:noindex
X-PUBLISHED-TTL:PT1H
BEGIN:VTIMEZONE
TZID:Europe/Helsinki
BEGIN:DAYLIGHT
TZOFFSETFROM:+0200
TZOFFSETTO:+0300
TZNAME:EEST
DTSTART:20230326T010000
END:DAYLIGHT
BEGIN:STANDARD
TZOFFSETFROM:+0300
TZOFFSETTO:+0200
TZNAME:EET
DTSTART:20231029T010000
END:STANDARD
BEGIN:DAYLIGHT
TZOFFSETFROM:+0200
TZOFFSETTO:+0300
TZNAME:EEST
DTSTART:20240331T010000
END:DAYLIGHT
BEGIN:STANDARD
TZOFFSETFROM:+0300
TZOFFSETTO:+0200
TZNAME:EET
DTSTART:20241027T010000
END:STANDARD
BEGIN:DAYLIGHT
TZOFFSETFROM:+0200
TZOFFSETTO:+0300
TZNAME:EEST
DTSTART:20250330T010000
END:DAYLIGHT
BEGIN:STANDARD
TZOFFSETFROM:+0300
TZOFFSETTO:+0200
TZNAME:EET
DTSTART:20251026T010000
END:STANDARD
END:VTIMEZONE
BEGIN:VEVENT
DTSTART;TZID=Europe/Helsinki:20240110T180000
DTEND;TZID=Europe/Helsinki:20240110T200000
DTSTAMP:20260425T143354
CREATED:20240325T201420Z
LAST-MODIFIED:20240325T205231Z
UID:3836-1704909600-1704916800@emilyhaeusler.de
SUMMARY:Schnupperstunde “Positive Psychologie”
DESCRIPTION:Was hat ein Elefant mit Coaching zu tun? Er steht symbolisch für Motivation\, Genuss und gesunde Ziele. Die Blume steht dafür\, dass wir alle etwas dazu beitragen können in unserem Job und Leben aufzublühen und das Segelboot symbolisiert unsere Stärken.\nDas sind nur einige bildliche Elemente aus der Positive Psychologie\, die in ihrer praktischen Anwendung im (Selbst-)Coaching große Wirkung haben können. \nIn der Schnupperstunde “Was uns aufblühen lässt” bekommt ihr einen Vorgeschmack auf das neue Modul “Selbst- und Teamreflexion”\, das im Denkhafen ab Januar in Kooperation mit Emily Haeusler anläuft. Den Termin am 27.01. am besten gleich mit vormerken!
URL:https://emilyhaeusler.de/event/schnupperstunde-positive-psychologie/
LOCATION:denkhafen\, Marienstraße 77-79\, Karlsruhe\, Deutschland
CATEGORIES:denkhafen GbR – Anna Zinßer, Dr. Christian Hoffstadt
ATTACH;FMTTYPE=image/png:https://emilyhaeusler.de/wp-content/uploads/2024/03/Logo-ohne-Hintergrund-47-e1711395486158.png
ORGANIZER;CN="Denkhafen GbR":MAILTO:info@denkhafen.com
END:VEVENT
BEGIN:VEVENT
DTSTART;TZID=Europe/Helsinki:20240127T090000
DTEND;TZID=Europe/Helsinki:20240127T153000
DTSTAMP:20260425T143354
CREATED:20240325T201534Z
LAST-MODIFIED:20240325T205307Z
UID:3838-1706346000-1706369400@emilyhaeusler.de
SUMMARY:Selbst- und Teamreflexion mit Positiver Psychologie
DESCRIPTION:Bevor wir systemische Coaches\, Teamguardians oder Unruhestifter werden\, sind wir erstmal Mensch. Aber welche Haltung nehmen wir zum Leben und Arbeiten ein? Was sind unsere Bedürfnisse und was lässt und wachsen?\nIm geschützten Raum des Denkhafens reflektieren wir uns einzeln und gemeinsam\, fühlen was in uns steckt und ihr bekommt wissenschaftlich fundierte und praxiserprobte Tools aus der Positiven Psychologie an die Hand – auch um besser zu sehen\, wer die Menschen in euren Teams sind.\n\n• Wozu die positiv-psychologische Brille aufsetzen?\n• Emotionen und die Grundeinstellungen des Gehirns\n• Aufblühen – Blume oder buntes Blumenbeet?\n• Gesunder Geist + Burnout bei sich und anderen früh erkennen\n• Psychische Grundbedürfnisse: subjektive Wahrnehmung oder objektiv beobachtbar?
URL:https://emilyhaeusler.de/event/selbst-und-teamreflexion-mit-positiver-psychologie/
LOCATION:denkhafen\, Marienstraße 77-79\, Karlsruhe\, Deutschland
CATEGORIES:denkhafen GbR – Anna Zinßer, Dr. Christian Hoffstadt
ATTACH;FMTTYPE=image/png:https://emilyhaeusler.de/wp-content/uploads/2024/03/Logo-ohne-Hintergrund-47-e1711395486158.png
ORGANIZER;CN="Denkhafen GbR":MAILTO:info@denkhafen.com
END:VEVENT
END:VCALENDAR